BEGIN:VCALENDAR
VERSION:2.0
PRODID:Events Booking
BEGIN:VEVENT
UID:69e6076faa8f7
SUMMARY:Getting Your License IN PERSON (3 weekend sessions) July 11
DESCRIPTION:ZOOM OPTION IS ALSO AVAILABLE&nbsp\;- Click HERE
 In order to 
 become a real estate agent in Arkansas\, you must successfully complete no
  less than sixty (60) classroom hours of real estate education of which th
 irty (30) classroom hours must be in the basic principles of real estate\,
  from an accredited post secondary school or an organization licensed by A
 REC.
 This&nbsp\;course meets for three consecutive weekends\,&nbsp\;8:30
  am - 6:30 pm on the following dates:
 
 July 11\, 12
 July 18\, 19
 J
 uly 25\, 26
 
 &nbsp\;The \"Getting Your License\" Vivid course includes
 :
 
 Textbook
 Binder with additional course materials
 UNLIMITED&nbsp
 \;Snacks &amp\; Beverages in our breakroom!
 FREE return to any future \"
 Get Your License\" course at Vivid for&nbsp\;up to&nbsp\;10 hours for revi
 ew&nbsp\;(if space available).
 
 Need more info about the Pre-Licensing
  process? Click HERE
LOCATION:4340 E 43rd St\, North Little Rock\, AR 72117\, USA
DTSTART:20260711T133000Z
DTEND:20260726T233000Z
DTSTAMP:20260417T234702Z
ORGANIZER;CN=Vivid Real Estate Learning Center:MAILTO:taylor@vividrealestat
 elearning.com
GEO:34.793443;-92.21527
X-APPLE-STRUCTURED-LOCATION;VALUE=URI;X-ADDRESS=4340 E 43rd St\, North Litt
 le Rock\, AR 72117\, USA;X-APPLE-RADIUS=72;X-TITLE=Vivid Real Estate Learn
 ing:34.793443;-92.21527
END:VEVENT
END:VCALENDAR