BEGIN:VCALENDAR
VERSION:2.0
PRODID:Events Booking
BEGIN:VEVENT
UID:69e6062e6139e
SUMMARY:Crye-Leike Realtors CE (Benton) May 20
DESCRIPTION:LOCATION:&nbsp\;Crye-Leike Realtors (Benton)1900 Military Rd # 
 4\, Benton\, AR 72015
 This session will consist of the&nbsp\;following:
 
 
 Compliance When Using AI Tools\, Applying Arkansas Real Estate Regula
 tions &amp\; Licensing Law when using AI:&nbsp\;(6 credit hrs.)&nbsp\;This
  comprehensive course explores how artificial intelligence (AI) can be use
 d in real estate while ensuring regulatory compliance and ethical best pra
 ctices. Over six modules\, participants will learn about current AI tools\
 , their applications in real estate\, and the legal responsibilities that 
 Arkansas licensees must uphold when leveraging these technologies. Hands-o
 n activities\, case studies\, and Arkansas-specific regulatory references 
 are incorporated to reinforce learning. By the end of the course\, agents 
 and brokers will be equipped to responsibly integrate AI into their practi
 ce in ways that enhance efficiency without violating Arkansas Real Estate 
 Commission (AREC) rules or state/federal laws.
 Real Estate Safety: (1 cr
 edit hr.)
 
 Licensees must obtain seven hours (7) of continuing educati
 on annually to renew an active real estate license for the upcoming calend
 ar year. For Licensees obtaining a license in the current year\, satisfact
 ion of your continuing education requirement will be required upon your se
 cond active license renewal after you are licensed.&nbsp\;
 NOTE: Renewal
  for the upcoming year must be completed by September 30th of the current 
 year to avoid penalty. After\, September 30th\, renewal can be completed w
 ith a penalty assessed. If an active license is not renewed for the upcomi
 ng calendar year prior to December 31st of the current year\, the license 
 will automatically become expired on January 1st.
 DON'T KNOW YOUR AREC L
 ICENSE #? CLICK HERE TO SEARCH&nbsp\;http://bit.ly/2vb7Awc
LOCATION:1900 Military Rd\, Benton\, AR 72015
DTSTART:20260520T140000Z
DTEND:20260520T220000Z
DTSTAMP:20260322T222040Z
ORGANIZER;CN=Vivid Real Estate Learning Center:MAILTO:taylor@vividrealestat
 elearning.com
END:VEVENT
END:VCALENDAR