BEGIN:VCALENDAR
VERSION:2.0
PRODID:Events Booking
BEGIN:VEVENT
UID:69e575c139596
SUMMARY:Salesperson (18 hrs.) Post-License Education virtual via ZOOM (July
  30-31)
DESCRIPTION:THIS CLASS IS LIVE VIA ZOOM (AUDIO &amp\; VIDEO REQUIRED)THERE 
 IS ALSO AN \"IN PERSON\" OPTION AVAILABLE FOR THIS CLASS HERE
 The AREC p
 ost-license requirement for a new salesperson is 18 classroom hours and mu
 st be taken within 6 months after the date the individual was initially li
 censed. The Salesperson Post License 18 classroom hours consist of the fol
 lowing three 6-hour modules -&nbsp\;Agency &amp\; Disclosure\, Contracts\,
  Contracts to Close.
 This&nbsp\;course meets for&nbsp\;2 days\,&nbsp\;8:
 30 am -&nbsp\;5:30 pm on the following dates:
 
 July 30-31
 
LOCATION:4340 E. 43rd Street
DTSTART:20260730T133000Z
DTEND:20260731T223000Z
DTSTAMP:20260417T233950Z
ORGANIZER;CN=Vivid Real Estate Learning Center:MAILTO:taylor@vividrealestat
 elearning.com
END:VEVENT
END:VCALENDAR