BEGIN:VCALENDAR
VERSION:2.0
PRODID:Events Booking
BEGIN:VEVENT
UID:69e5a2562a354
SUMMARY:Broker (30 hrs.) Post-License Education (APPROVED REGISTRATION ONLY
 )
DESCRIPTION:DO NOT REGISTER FOR THIS CLASS WITHOUT PRIOR APPROVAL FROM VIVI
 D STAFF 
 (PLACEHOLDER CLASS ONLY - NOT ACTUAL DATES OF CLASS)A new broke
 r must complete the 30 classroom hour AREC post-licensure course within 6 
 months after the date the individual was initially licensed. Newly license
 d brokers requesting status as an Executive or Principal Broker must satis
 fy the post-licensure requirement before such status is granted.&nbsp\;
 
 &nbsp\;
 &nbsp\;
LOCATION:4340 E 43rd St\, North Little Rock\, AR 72117\, USA
DTSTART:20261118T143000Z
DTEND:20261119T000000Z
DTSTAMP:20260420T034942Z
ORGANIZER;CN=Vivid Real Estate Learning Center:MAILTO:taylor@vividrealestat
 elearning.com
GEO:34.793443;-92.21527
X-APPLE-STRUCTURED-LOCATION;VALUE=URI;X-ADDRESS=4340 E 43rd St\, North Litt
 le Rock\, AR 72117\, USA;X-APPLE-RADIUS=72;X-TITLE=Vivid Real Estate Learn
 ing:34.793443;-92.21527
END:VEVENT
END:VCALENDAR