BEGIN:VCALENDAR
VERSION:2.0
PRODID:Events Booking
BEGIN:VEVENT
UID:69e5aebbc6728
SUMMARY:SCARA Continuing Education (May 5)
DESCRIPTION:THIS CE IS OPEN TO ALL AGENTSLOCATION: New Beginnings Apostolic
  Church\, 407 Prickett Rd.\, Bryant\, AR 72002 (BREAKFAST PROVIDED)
 This
  session will consist of the&nbsp\;following:
 
 Compliance When Using A
 I Tools\, Applying Arkansas Real Estate Regulations &amp\; Licensing Law w
 hen using AI:&nbsp\;(6 credit hrs.)&nbsp\;This comprehensive course explor
 es how artificial intelligence (AI) can be used in real estate while ensur
 ing regulatory compliance and ethical best practices. Over six modules\, p
 articipants will learn about current AI tools\, their applications in real
  estate\, and the legal responsibilities that Arkansas licensees must upho
 ld when leveraging these technologies. Hands-on activities\, case studies\
 , and Arkansas-specific regulatory references are incorporated to reinforc
 e learning. By the end of the course\, agents and brokers will be equipped
  to responsibly integrate AI into their practice in ways that enhance effi
 ciency without violating Arkansas Real Estate Commission (AREC) rules or s
 tate/federal laws.
 Real Estate Safety: (1 credit hr.)
 
 Licensees mus
 t obtain seven hours (7) of continuing education annually to renew an acti
 ve real estate license for the upcoming calendar year. For Licensees obtai
 ning a license in the current year\, satisfaction of your continuing educa
 tion requirement will be required upon your second active license renewal 
 after you are licensed.&nbsp\;
 NOTE: Renewal for the upcoming year must 
 be completed by September 30th of the current year to avoid penalty. After
 \, September 30th\, renewal can be completed with a penalty assessed. If a
 n active license is not renewed for the upcoming calendar year prior to De
 cember 31st of the current year\, the license will automatically become ex
 pired on January 1st.
 NOTE:&nbsp\;Commission Regulation 11.4 does not al
 low one course to be used for both continuing education and pre-licensing 
 education.
 DON'T KNOW YOUR AREC LICENSE #? CLICK HERE TO SEARCH&nbsp\;ht
 tp://bit.ly/2vb7Awc
LOCATION:407 Prickett Road\, Bryant\, AR 72022
DTSTART:20260505T140000Z
DTEND:20260505T213000Z
DTSTAMP:20260319T005423Z
ORGANIZER;CN=Vivid Real Estate Learning Center:MAILTO:taylor@vividrealestat
 elearning.com
END:VEVENT
END:VCALENDAR