BEGIN:VCALENDAR
VERSION:2.0
PRODID:Events Booking
BEGIN:VEVENT
UID:69e574792ca5d
SUMMARY:Broker Pre-License IN PERSON (6 days) Harrison Sept 2026
DESCRIPTION:Broker applicants must complete sixty (60) hours of real estate
  education\, of which forty-five (45) hours must be the Arkansas Real Esta
 te Commission developed Broker Pre-License Education course.
 This Broker
  Pre-Licensure course meets 3 days each week for 2 weeks\, 8:30 am - 6:00 
 pm\, on the following dates:
 
 Mon - Wed\, Sep 21 - 23\, 2026
 Mon - W
 ed\, Sep 29 - 30\, 2026
 
 The Broker Pre-License Vivid (IN PERSON) cour
 se includes:
 
 Binder and additional study materials
 Discount for any
  future Broker Post-Licensing (30 hrs.) course
 
LOCATION:3100A Meadowmere\, Harrison\, AR 72601
DTSTART:20260921T133000Z
DTEND:20260930T233000Z
DTSTAMP:20260310T093118Z
ORGANIZER;CN=Vivid Real Estate Learning Center:MAILTO:taylor@vividrealestat
 elearning.com
GEO:36.265197;-93.141065
X-APPLE-STRUCTURED-LOCATION;VALUE=URI;X-ADDRESS=3100A Meadowmere\, Harrison
 \, AR 72601;X-APPLE-RADIUS=72;X-TITLE=Harrision District Board of Realtors
 :36.265197;-93.141065
END:VEVENT
END:VCALENDAR