BEGIN:VCALENDAR
VERSION:2.0
PRODID:Events Booking
BEGIN:VEVENT
UID:69e574cbac057
SUMMARY:Getting Your License IN PERSON (8 days) June 8
DESCRIPTION:ZOOM OPTION IS ALSO AVAILABLE&nbsp\;- Click HERE
 In order to 
 become a real estate agent in Arkansas\, you must successfully complete no
  less than sixty (60) classroom hours of real estate education of which th
 irty (30) classroom hours must be in the basic principles of real estate\,
  from an accredited post secondary school or an organization licensed by A
 REC.
 This course consists of 8&nbsp\;sessions: 4 days per week for 2 wee
 ks\,&nbsp\;9:00 am - 5:00 pm on the following dates:
 
 Mon - Thurs\, Ju
 ne 8-11
 Mon - Thurs\, June 15-18
 
 The \"Getting Your License\" Vivid
  course includes:
 
 Textbook
 Binder with additional course materials
 
 UNLIMITED&nbsp\;Snacks &amp\; Beverages in our breakroom!
 FREE return 
 to any future \"Get Your License\" course at Vivid for&nbsp\;up to&nbsp\;1
 0 hours for review&nbsp\;(if space available).
 
 Need more info about t
 he Pre-Licensing process? Click&nbsp\;HERE
LOCATION:4340 E 43rd St\, North Little Rock\, AR 72117\, USA
DTSTART:20260608T140000Z
DTEND:20260618T220000Z
DTSTAMP:20260410T020618Z
ORGANIZER;CN=Vivid Real Estate Learning Center:MAILTO:taylor@vividrealestat
 elearning.com
GEO:34.793443;-92.21527
X-APPLE-STRUCTURED-LOCATION;VALUE=URI;X-ADDRESS=4340 E 43rd St\, North Litt
 le Rock\, AR 72117\, USA;X-APPLE-RADIUS=72;X-TITLE=Vivid Real Estate Learn
 ing:34.793443;-92.21527
END:VEVENT
END:VCALENDAR