BEGIN:VCALENDAR
VERSION:2.0
PRODID:Events Booking
BEGIN:VEVENT
UID:69e5748a4e8fa
SUMMARY:Getting Your License (8 days) virtual via ZOOM - June 8
DESCRIPTION:THERE IS ALSO AN \"IN PERSON\" OPTION AVAILABLE FOR THIS CLASS 
 - Click HERE
 PLEASE NOTE:&nbsp\;Course materials will be shipped at no c
 ost to students whose shipping address is outside a 35-mile radius of the 
 school.&nbsp\;Students who live within a 35-mile radius are required to pi
 ck up their course materials in person at the school.&nbsp\;If you registe
 r within 3 business days of the course start date\, you may not receive yo
 ur materials by mail before the first class. In these cases\, you will rec
 eive a PDF copy of the course materials to use until materials arrive.
 I
 n order to become a real estate agent in Arkansas\, you must successfully 
 complete no less than sixty (60) classroom hours of real estate education 
 of which thirty (30) classroom hours must be in the basic principles of re
 al estate\, from an accredited post secondary school or an organization li
 censed by AREC.
 THIS CLASS IS LIVE VIA ZOOM (AUDIO &amp\; VIDEO REQUIRED
 )
 This course consists of 8&nbsp\;sessions: 4 days per week for 2 weeks\
 ,&nbsp\;9:00 am - 5:00 pm on the following dates:
 
 Mon - Thurs\, June 
 8-11
 Mon - Thurs\, June 15-18
 
 The \"Getting Your License\" Vivid co
 urse includes:
 
 Textbook
 Binder with additional course materials
 F
 REE return to any future \"Get Your License\" course at Vivid for&nbsp\;up
  to&nbsp\;10 hours for review&nbsp\;(if space available).
 
 Need more i
 nfo about the Pre-Licensing process? Click&nbsp\;HERE
LOCATION:4340 E. 43rd Street
DTSTART:20260608T140000Z
DTEND:20260618T220000Z
DTSTAMP:20260410T020824Z
ORGANIZER;CN=Vivid Real Estate Learning Center:MAILTO:taylor@vividrealestat
 elearning.com
END:VEVENT
END:VCALENDAR